BEGIN:VCALENDAR
VERSION:2.0
PRODID:-//wp-events-plugin.com//7.2.3.1//EN
TZID:Europe/Berlin
X-WR-TIMEZONE:Europe/Berlin
BEGIN:VEVENT
UID:9@vocano.web-r.biz
DTSTART;TZID=Europe/Berlin:20261212T160000
DTEND;TZID=Europe/Berlin:20261212T180000
DTSTAMP:20260406T195816Z
URL:https://vocano.web-r.biz/termin/vocano-christmas-2/
SUMMARY:VOCANO Christmas
DESCRIPTION:Safe the Date!\nEin Weihnachtskonzert der anderen Art.
ATTACH;FMTTYPE=image/jpeg:https://vocano.web-r.biz/wp-content/uploads/2025
 /09/VOCANO_Presse_11.05._cMartinMorjan_04-scaled.jpg
LOCATION:Himmelfahrtskirche Leuben\, Altleuben 15\, Dresden\, 01257\, Deuts
 chland
GEO:51.011014;13.825827
X-APPLE-STRUCTURED-LOCATION;VALUE=URI;X-ADDRESS=Altleuben 15\, Dresden\, 01
 257\, Deutschland;X-APPLE-RADIUS=100;X-TITLE=Himmelfahrtskirche Leuben:geo
 :51.011014,13.825827
END:VEVENT
BEGIN:VTIMEZONE
TZID:Europe/Berlin
X-LIC-LOCATION:Europe/Berlin
BEGIN:STANDARD
DTSTART:20261025T020000
TZOFFSETFROM:+0200
TZOFFSETTO:+0100
TZNAME:CET
END:STANDARD
END:VTIMEZONE
END:VCALENDAR