BEGIN:VCALENDAR
VERSION:2.0
PRODID:-//wp-events-plugin.com//7.2.3.1//EN
TZID:Europe/Berlin
X-WR-TIMEZONE:Europe/Berlin
BEGIN:VEVENT
UID:1@vocano.web-r.biz
DTSTART;TZID=Europe/Berlin:20260131T150000
DTEND;TZID=Europe/Berlin:20260131T150000
DTSTAMP:20260119T071608Z
URL:https://vocano.web-r.biz/termin/samstagssingen/
SUMMARY:Samstagssingen
DESCRIPTION:
LOCATION:Fährgarten Johannstadt\, Käthe-Kollwitz-Ufer 23b\, 01307 Dresden
 \, Deutschland
GEO:51.061621;13.767122
X-APPLE-STRUCTURED-LOCATION;VALUE=URI;X-ADDRESS=Käthe-Kollwitz-Ufer 23b\, 
 01307 Dresden\, Deutschland;X-APPLE-RADIUS=100;X-TITLE=Fährgarten Johanns
 tadt:geo:51.061621,13.767122
END:VEVENT
BEGIN:VTIMEZONE
TZID:Europe/Berlin
X-LIC-LOCATION:Europe/Berlin
BEGIN:STANDARD
DTSTART:20251026T020000
TZOFFSETFROM:+0200
TZOFFSETTO:+0100
TZNAME:CET
END:STANDARD
END:VTIMEZONE
END:VCALENDAR