BEGIN:VCALENDAR
VERSION:2.0
PRODID:-//wp-events-plugin.com//7.2.3.1//EN
TZID:Europe/Berlin
X-WR-TIMEZONE:Europe/Berlin
BEGIN:VEVENT
UID:4@vocano.web-r.biz
DTSTART;TZID=Europe/Berlin:20260606T193000
DTEND;TZID=Europe/Berlin:20260606T220000
DTSTAMP:20260321T211344Z
URL:https://vocano.web-r.biz/termin/mal-anders/
SUMMARY:VOCANO mal ANDERS
DESCRIPTION:Mitreißender Popsound\, authentische und frische Songs und ein
 e Publikumsnähe\, die ihresgleichen sucht. Der Chor VOCANO hat die fünf 
 preisgekrönten A-Cappella Deutschpoeten von ANDERS eingeladen und präsen
 tiert gemeinsam mit ihnen einen fulminanten Abend! Beatboxer bereichern de
 n Klang des bekannten Dresdner Chores und das Freiburger Quintett ANDERS g
 eht mit seinem neuen Programm SO KURZ DAVOR aufs Ganze und besingt das Leb
 en in all seinen Facetten: Humoristisch\, poetisch\, melancholisch\, philo
 sophisch fragend und selbstbewusst. Eingängige Melodien und intelligente 
 Texte. Mit ihrem Gesang begeistern sie ihr Publikum nicht nur bei eigenen 
 Konzerten\, sondern bereits auch im Vorprogramm von Bands wie Revolverheld
  oder Thees Uhlmann.\n\nSo entsteht ein besonderer und überraschender A-C
 apella Abend\, angefüllt mit berührenden und unvergesslichen musikalisch
 en Momenten!
ATTACH;FMTTYPE=image/jpeg:https://vocano.web-r.biz/wp-content/uploads/2026
 /01/ORTE.png
LOCATION:Theater Meißen\, Theaterplatz 15\, 01662 Meißen\, Deutschland
GEO:51.164709;13.472404
X-APPLE-STRUCTURED-LOCATION;VALUE=URI;X-ADDRESS=Theaterplatz 15\, 01662 Mei
 ßen\, Deutschland;X-APPLE-RADIUS=100;X-TITLE=Theater Meißen:geo:51.16470
 9,13.472404
END:VEVENT
BEGIN:VTIMEZONE
TZID:Europe/Berlin
X-LIC-LOCATION:Europe/Berlin
BEGIN:DAYLIGHT
DTSTART:20260329T030000
TZOFFSETFROM:+0100
TZOFFSETTO:+0200
TZNAME:CEST
END:DAYLIGHT
END:VTIMEZONE
END:VCALENDAR