BEGIN:VCALENDAR
VERSION:2.0
PRODID:-//wp-events-plugin.com//7.2.3.1//EN
TZID:Europe/Berlin
X-WR-TIMEZONE:Europe/Berlin
BEGIN:VEVENT
UID:7@vocano.web-r.biz
DTSTART;TZID=Europe/Berlin:20260515T153000
DTEND;TZID=Europe/Berlin:20260515T180000
DTSTAMP:20260406T195043Z
URL:https://vocano.web-r.biz/termin/aarhus-vocal-festival/
SUMMARY:Aarhus Vocal Festival
DESCRIPTION:Wir sind Finalists im Wettbewerb. Wir freuen uns riesig auf das
  Festival!
ATTACH;FMTTYPE=image/jpeg:https://vocano.web-r.biz/wp-content/uploads/2025
 /09/001-Matthias-800x533-1.jpg
LOCATION:Musikhuset Aarhus\, Thomas Jensens Allé 2\, Aarhus\, Dänemark\, 
 8000\, Deutschland
GEO:56.152969;10.199092
X-APPLE-STRUCTURED-LOCATION;VALUE=URI;X-ADDRESS=Thomas Jensens Allé 2\, Aa
 rhus\, Dänemark\, 8000\, Deutschland;X-APPLE-RADIUS=100;X-TITLE=Musikhuse
 t Aarhus:geo:56.152969,10.199092
END:VEVENT
BEGIN:VTIMEZONE
TZID:Europe/Berlin
X-LIC-LOCATION:Europe/Berlin
BEGIN:DAYLIGHT
DTSTART:20260329T030000
TZOFFSETFROM:+0100
TZOFFSETTO:+0200
TZNAME:CEST
END:DAYLIGHT
END:VTIMEZONE
END:VCALENDAR