BEGIN:VCALENDAR
VERSION:2.0
PRODID:-//wp-events-plugin.com//7.2.3.1//EN
TZID:Europe/Berlin
X-WR-TIMEZONE:Europe/Berlin
BEGIN:VEVENT
UID:2@vocano.web-r.biz
DTSTART;TZID=Europe/Berlin:20251207T160000
DTEND;TZID=Europe/Berlin:20251207T160000
DTSTAMP:20260120T190237Z
URL:https://vocano.web-r.biz/termin/1178/
SUMMARY:Weihnachtskonzert
DESCRIPTION:Getragen von der Kraft und Leidenschaft der Sängerinnen und S
 änger öffnet VOCANO Herzen und schafft unvergessliche musikalische Momen
 te - mitreißend\, kraftvoll\, berührend und authentisch wie nie zuvor. D
 abei prägen warme groovige Bässe\, Beatbox-Rhythmen und die vielseitigen
  Stimmfarben den charakteristischen Klang. Das Ergebnis ist ein frisches u
 nd neues Weihnachtsprogramm mit facettenreichen Arrangements sowohl bekann
 ter als auch außergewöhnlicher Songs.\n\nVOCANO präsentiert Chormusik v
 on ihrer modernen Seite. Zu den Highlights der Chorgeschichte zählen u.a.
  die Alben DEBUT und PART OF US\, dessen Albumrelease 2023 im Theater Mei
 ßen gefeiert wurde.
LOCATION:Theater Meißen\, Theaterplatz 15\, 01662 Meißen\, Deutschland
GEO:51.164709;13.472404
X-APPLE-STRUCTURED-LOCATION;VALUE=URI;X-ADDRESS=Theaterplatz 15\, 01662 Mei
 ßen\, Deutschland;X-APPLE-RADIUS=100;X-TITLE=Theater Meißen:geo:51.16470
 9,13.472404
END:VEVENT
BEGIN:VTIMEZONE
TZID:Europe/Berlin
X-LIC-LOCATION:Europe/Berlin
BEGIN:STANDARD
DTSTART:20251026T020000
TZOFFSETFROM:+0200
TZOFFSETTO:+0100
TZNAME:CET
END:STANDARD
END:VTIMEZONE
END:VCALENDAR